BEGIN:VCALENDAR
VERSION:2.0
PRODID:GIGPRESS 2.0 WORDPRESS PLUGIN
CALSCALE:GREGORIAN
X-WR-TIMEZONE:Etc/GMT
METHOD:PUBLISH
BEGIN:VTIMEZONE
TZID:GMT
BEGIN:STANDARD
DTSTART:20071028T010000
TZOFFSETTO:+0000
TZOFFSETFROM:+0000
END:STANDARD
END:VTIMEZONE
BEGIN:VEVENT
SUMMARY:The Bell Bottom Blues at The Lizzie Rose Music Room Presents Tuckerton NJ
DESCRIPTION:All Ages
LOCATION:The Lizzie Rose Music Room Presents Tuckerton NJ\, 450 Ishmael Road\, Tuckerton\, US
UID:20260613T193000Z-273-loucapra7@aol.com
URL:http://thebellbottomblues.com/?page_id=43
DTSTART;VALUE=DATE-TIME;TZID=GMT:20260613T193000Z
DTEND;VALUE=DATE-TIME;TZID=GMT:20260613T193000Z
DTSTAMP:20260424T020256Z
END:VEVENT
END:VCALENDAR